BEGIN:VCALENDAR
VERSION:2.0
PRODID:San Diego County Sheriff Calendar Creator
METHOD:PUBLISH
BEGIN:VEVENT
DTSTAMP:20201027T131059
DTSTART:20201027T000000
DTEND:20201027T235900
SUMMARY:Sailing
DESCRIPTION:
X-ALT-DESC;FMTTYPE=text/html:
LOCATION:Borrego Springs Office\, 2620 Country Club Road San Diego\, California 92004
CLASS:PUBLIC
END:VEVENT
END:VCALENDAR
