BEGIN:VCALENDAR
VERSION:2.0
PRODID:San Diego County Sheriff Calendar Creator
METHOD:PUBLISH
BEGIN:VEVENT
DTSTAMP:20201027T131151
DTSTART:20201027T000000
DTEND:20201027T235900
SUMMARY:Skydiving for Seniors
DESCRIPTION:
X-ALT-DESC;FMTTYPE=text/html:
LOCATION:4S Ranch Substation\, 10282 Rancho Bernardo Road San Diego\, California 92127
CLASS:PUBLIC
END:VEVENT
END:VCALENDAR
