BEGIN:VCALENDAR
VERSION:2.0
PRODID:San Diego County Sheriff Calendar Creator
METHOD:PUBLISH
BEGIN:VEVENT
DTSTAMP:20201027T131155
DTSTART:20201027T145900
DTEND:20201027T165900
SUMMARY:Halloween potluck
DESCRIPTION:
X-ALT-DESC;FMTTYPE=text/html:
LOCATION:San Diego Civil Office\, 1409 4th Avenue San Diego\, California 92101
CLASS:PUBLIC
END:VEVENT
END:VCALENDAR
