BEGIN:VCALENDAR
VERSION:2.0
PRODID:San Diego County Sheriff Calendar Creator
METHOD:PUBLISH
BEGIN:VEVENT
DTSTAMP:20201027T131211
DTSTART:20201027T220000
DTEND:20201027T235900
SUMMARY:Halloween Pumpkin Carving Contest
DESCRIPTION:
X-ALT-DESC;FMTTYPE=text/html:
LOCATION:San Diego Central Jail\, 1173 Front Street San Diego\, California 92101
CLASS:PUBLIC
END:VEVENT
END:VCALENDAR
