BEGIN:VCALENDAR
VERSION:2.0
PRODID:San Diego County Sheriff Calendar Creator
METHOD:PUBLISH
BEGIN:VEVENT
DTSTAMP:20201027T131243
DTSTART:20201027T140000
DTEND:20201027T155900
SUMMARY:Salsa Dancing
DESCRIPTION:
X-ALT-DESC;FMTTYPE=text/html:
LOCATION:San Marcos Station\, 182 Santar Place San Marcos\, California 92069
CLASS:PUBLIC
END:VEVENT
END:VCALENDAR
