BEGIN:VCALENDAR
VERSION:2.0
PRODID:San Diego County Sheriff Calendar Creator
METHOD:PUBLISH
BEGIN:VEVENT
DTSTAMP:20201120T144355
DTSTART:20201130T060000
DTEND:20201130T065900
SUMMARY:Fun Run and Voluntary Workout for Professional Staff
DESCRIPTION:Bring exercise clothing and athletic shoes. Hats and sunblock are recommended. Drink plenty of water the day before and the day of. Each a nutritional meal.
X-ALT-DESC;FMTTYPE=text/html:Bring exercise clothing and athletic shoes. Hats and sunblock are recommended. Drink plenty of water the day before and the day of. Each a nutritional meal.
LOCATION:Imperial Beach Substation\, 845 Imperial Beach Boulevard Imperial Beach\, California 91932
CLASS:PUBLIC
END:VEVENT
END:VCALENDAR
