BEGIN:VCALENDAR
VERSION:2.0
PRODID:San Diego County Sheriff Calendar Creator
METHOD:PUBLISH
BEGIN:VEVENT
DTSTAMP:20210309T143542
DTSTART:20201217T070000
DTEND:20201217T090000
SUMMARY:Lateral Qual. Shoot
DESCRIPTION:
X-ALT-DESC;FMTTYPE=text/html:
LOCATION:Miramar Range\, 
CLASS:PUBLIC
END:VEVENT
END:VCALENDAR
