BEGIN:VCALENDAR
VERSION:2.0
PRODID:San Diego County Sheriff Calendar Creator
METHOD:PUBLISH
BEGIN:VEVENT
DTSTAMP:20201228T111007
DTSTART:20201231T080000
DTEND:20201231T100000
SUMMARY:PAT
DESCRIPTION:blah blah blah
X-ALT-DESC;FMTTYPE=text/html:blah blah blah
LOCATION:Miramar\, 
CLASS:PUBLIC
END:VEVENT
END:VCALENDAR
