BEGIN:VCALENDAR
VERSION:2.0
PRODID:San Diego County Sheriff Calendar Creator
METHOD:PUBLISH
BEGIN:VEVENT
DTSTAMP:20210124T214620
DTSTART:19750427T000000
DTEND:19750427T235900
SUMMARY:Beverly Jean Ribley
DESCRIPTION:<p>Beverly Jean Ribley disappeared under mysterious circumstances in April 1975. There was no evidence of foul play, but after talking to Ms. Ribley’s friends and relatives this disappearance seems completely out of character for her. Ms. Ribley’s last contact with anyone was on April 27, 1975 at approximately 10:30pm, at that time Ms. Ribley was at her residence in the 2400 block of Trace Road in Spring Valley.</p><p>At the time of her disappearance, Beverly Ribley was 29 years old, 5’1” tall and weighed about 100 lbs. She had long brown hair and green eyes.</p><p>Anyone with information is asked to contact us in one of the following ways:</p><ul>    <li>Sheriff’s Homicide Detail - 858-285-6330 (during business hours)</li>    <li>Sheriff’s Communications Center - 858-565-5200 (outside business hours)</li>    <li>Crime Stoppers - 888-580-8477</li>    <li><a href="mailto:&#115;&#100;&#115;&#111;&#46;&#104;&#111;&#109;&#105;&#99;&#105;&#100;&#101;&#64;&#115;&#100;&#115;&#104;&#101;&#114;&#105;&#102;&#102;&#46;&#111;&#114;&#103;">E-mail Homicide Detail</a></li>    <li><a href="https://www.tipsubmit.com/WebTips.aspx?AgencyID=409" target="_blank">Online Tip Form (Crime Stoppers)</a></li></ul>
X-ALT-DESC;FMTTYPE=text/html:<p>Beverly Jean Ribley disappeared under mysterious circumstances in April 1975. There was no evidence of foul play, but after talking to Ms. Ribley’s friends and relatives this disappearance seems completely out of character for her. Ms. Ribley’s last contact with anyone was on April 27, 1975 at approximately 10:30pm, at that time Ms. Ribley was at her residence in the 2400 block of Trace Road in Spring Valley.</p><p>At the time of her disappearance, Beverly Ribley was 29 years old, 5’1” tall and weighed about 100 lbs. She had long brown hair and green eyes.</p><p>Anyone with information is asked to contact us in one of the following ways:</p><ul>    <li>Sheriff’s Homicide Detail - 858-285-6330 (during business hours)</li>    <li>Sheriff’s Communications Center - 858-565-5200 (outside business hours)</li>    <li>Crime Stoppers - 888-580-8477</li>    <li><a href="mailto:&#115;&#100;&#115;&#111;&#46;&#104;&#111;&#109;&#105;&#99;&#105;&#100;&#101;&#64;&#115;&#100;&#115;&#104;&#101;&#114;&#105;&#102;&#102;&#46;&#111;&#114;&#103;">E-mail Homicide Detail</a></li>    <li><a href="https://www.tipsubmit.com/WebTips.aspx?AgencyID=409" target="_blank">Online Tip Form (Crime Stoppers)</a></li></ul>
LOCATION:2400 Trace Road Spring Valley\, California 
CLASS:PUBLIC
END:VEVENT
END:VCALENDAR
