BEGIN:VCALENDAR
VERSION:2.0
PRODID:San Diego County Sheriff Calendar Creator
METHOD:PUBLISH
BEGIN:VEVENT
DTSTAMP:20210124T214051
DTSTART:19770201T000000
DTEND:19770201T235900
SUMMARY:Kimberly Cozart aka: Kimberly Harper
DESCRIPTION:<p>Kimberly Cozart (aka: Kimberly Harper) has been missing since February 1977. She was last known to be living on Banner Grade Road in Julian, California. She was reported missing by her sister on December 15, 1995.</p><p>Kimberly Cozart is described as a 15-year old, White female. At the time of her disappearance she was 5’00” tall and weighed about 100 lbs. She had long reddish-brown hair and brown eyes.</p><p>Anyone with information is asked to contact us in one of the following ways:</p><ul>    <li>Sheriff’s Homicide Detail - 858-285-6330 (during business hours)</li>    <li>Sheriff’s Communications Center - 858-565-5200 (outside business hours)</li>    <li>Crime Stoppers - 888-580-8477</li>    <li><a href="mailto:&#115;&#100;&#115;&#111;&#46;&#104;&#111;&#109;&#105;&#99;&#105;&#100;&#101;&#64;&#115;&#100;&#115;&#104;&#101;&#114;&#105;&#102;&#102;&#46;&#111;&#114;&#103;">E-mail Homicide Detail</a></li>    <li><a href="https://www.tipsubmit.com/WebTips.aspx?AgencyID=409" target="_blank">Online Tip Form (Crime Stoppers)</a></li></ul>
X-ALT-DESC;FMTTYPE=text/html:<p>Kimberly Cozart (aka: Kimberly Harper) has been missing since February 1977. She was last known to be living on Banner Grade Road in Julian, California. She was reported missing by her sister on December 15, 1995.</p><p>Kimberly Cozart is described as a 15-year old, White female. At the time of her disappearance she was 5’00” tall and weighed about 100 lbs. She had long reddish-brown hair and brown eyes.</p><p>Anyone with information is asked to contact us in one of the following ways:</p><ul>    <li>Sheriff’s Homicide Detail - 858-285-6330 (during business hours)</li>    <li>Sheriff’s Communications Center - 858-565-5200 (outside business hours)</li>    <li>Crime Stoppers - 888-580-8477</li>    <li><a href="mailto:&#115;&#100;&#115;&#111;&#46;&#104;&#111;&#109;&#105;&#99;&#105;&#100;&#101;&#64;&#115;&#100;&#115;&#104;&#101;&#114;&#105;&#102;&#102;&#46;&#111;&#114;&#103;">E-mail Homicide Detail</a></li>    <li><a href="https://www.tipsubmit.com/WebTips.aspx?AgencyID=409" target="_blank">Online Tip Form (Crime Stoppers)</a></li></ul>
LOCATION:Banner Grade Road Julian\, California 
CLASS:PUBLIC
END:VEVENT
END:VCALENDAR
