BEGIN:VCALENDAR
VERSION:2.0
PRODID:San Diego County Sheriff Calendar Creator
METHOD:PUBLISH
BEGIN:VEVENT
DTSTAMP:20210124T211639
DTSTART:19940422T000000
DTEND:19940422T235900
SUMMARY:David Paz (Zeidenberg)
DESCRIPTION:<p>On April 22, 1994, a witness traveling westbound on Interstate 8 noticed a fire south of the freeway near Arnold Way in Alpine. The witness saw a vehicle driving away from the location, heading north on Arnold Way. The witness exited the freeway and drove to the location of the fire. When the witness arrived at the location he noticed what he believed was a mannequin on fire in the roadway. When the fire was extinguished they discovered it was the remains of an unidentified adult male. The victim remained unidentified until December 2006. Cause of death was due to gunshot wounds.</p><p>Anyone with information is asked to contact us in one of the following ways:</p><ul>    <li>Sheriff’s Homicide Detail - 858-285-6330 (during business hours)</li>    <li>Sheriff’s Communications Center - 858-565-5200 (outside business hours)</li>    <li>Crime Stoppers - 888-580-8477</li>    <li><a href="mailto:&#115;&#100;&#115;&#111;&#46;&#104;&#111;&#109;&#105;&#99;&#105;&#100;&#101;&#64;&#115;&#100;&#115;&#104;&#101;&#114;&#105;&#102;&#102;&#46;&#111;&#114;&#103;">E-mail Homicide Detail</a></li>    <li><a href="https://www.tipsubmit.com/WebTips.aspx?AgencyID=409" target="_blank">Online Tip Form (Crime Stoppers)</a></li></ul>
X-ALT-DESC;FMTTYPE=text/html:<p>On April 22, 1994, a witness traveling westbound on Interstate 8 noticed a fire south of the freeway near Arnold Way in Alpine. The witness saw a vehicle driving away from the location, heading north on Arnold Way. The witness exited the freeway and drove to the location of the fire. When the witness arrived at the location he noticed what he believed was a mannequin on fire in the roadway. When the fire was extinguished they discovered it was the remains of an unidentified adult male. The victim remained unidentified until December 2006. Cause of death was due to gunshot wounds.</p><p>Anyone with information is asked to contact us in one of the following ways:</p><ul>    <li>Sheriff’s Homicide Detail - 858-285-6330 (during business hours)</li>    <li>Sheriff’s Communications Center - 858-565-5200 (outside business hours)</li>    <li>Crime Stoppers - 888-580-8477</li>    <li><a href="mailto:&#115;&#100;&#115;&#111;&#46;&#104;&#111;&#109;&#105;&#99;&#105;&#100;&#101;&#64;&#115;&#100;&#115;&#104;&#101;&#114;&#105;&#102;&#102;&#46;&#111;&#114;&#103;">E-mail Homicide Detail</a></li>    <li><a href="https://www.tipsubmit.com/WebTips.aspx?AgencyID=409" target="_blank">Online Tip Form (Crime Stoppers)</a></li></ul>
LOCATION:South of I-8 & Tavern\, Alpine\, 
CLASS:PUBLIC
END:VEVENT
END:VCALENDAR
