BEGIN:VCALENDAR
VERSION:2.0
PRODID:San Diego County Sheriff Calendar Creator
METHOD:PUBLISH
BEGIN:VEVENT
DTSTAMP:20210124T211106
DTSTART:20040618T000000
DTEND:20040618T235900
SUMMARY:Edward H. Ramsey III
DESCRIPTION:<p>On the evening of June 18, 2004, Edward Harold Ramsey III was walking along the 3000 block of Central Avenue in Spring Valley when he was shot. Witnesses say they saw two black men running from the scene. The men drove away in a white car. Despite paramedics’ best efforts, Ramsey died at the scene.</p><p>Anyone with information is asked to contact us in one of the following ways:</p><ul>    <li>Sheriff’s Homicide Detail - 858-285-6330 (during business hours)</li>    <li>Sheriff’s Communications Center - 858-565-5200 (outside business hours)</li>    <li>Crime Stoppers - 888-580-8477</li>    <li><a href="mailto:&#115;&#100;&#115;&#111;&#46;&#104;&#111;&#109;&#105;&#99;&#105;&#100;&#101;&#64;&#115;&#100;&#115;&#104;&#101;&#114;&#105;&#102;&#102;&#46;&#111;&#114;&#103;">E-mail Homicide Detail</a></li>    <li><a href="https://www.tipsubmit.com/WebTips.aspx?AgencyID=409" target="_blank">Online Tip Form (Crime Stoppers)</a></li></ul>
X-ALT-DESC;FMTTYPE=text/html:<p>On the evening of June 18, 2004, Edward Harold Ramsey III was walking along the 3000 block of Central Avenue in Spring Valley when he was shot. Witnesses say they saw two black men running from the scene. The men drove away in a white car. Despite paramedics’ best efforts, Ramsey died at the scene.</p><p>Anyone with information is asked to contact us in one of the following ways:</p><ul>    <li>Sheriff’s Homicide Detail - 858-285-6330 (during business hours)</li>    <li>Sheriff’s Communications Center - 858-565-5200 (outside business hours)</li>    <li>Crime Stoppers - 888-580-8477</li>    <li><a href="mailto:&#115;&#100;&#115;&#111;&#46;&#104;&#111;&#109;&#105;&#99;&#105;&#100;&#101;&#64;&#115;&#100;&#115;&#104;&#101;&#114;&#105;&#102;&#102;&#46;&#111;&#114;&#103;">E-mail Homicide Detail</a></li>    <li><a href="https://www.tipsubmit.com/WebTips.aspx?AgencyID=409" target="_blank">Online Tip Form (Crime Stoppers)</a></li></ul>
LOCATION:300 Blk. Central Ave Spring Valley\, California 
CLASS:PUBLIC
END:VEVENT
END:VCALENDAR
