BEGIN:VCALENDAR
VERSION:2.0
PRODID:San Diego County Sheriff Calendar Creator
METHOD:PUBLISH
BEGIN:VEVENT
DTSTAMP:20210124T210015
DTSTART:20070901T000000
DTEND:20070901T235900
SUMMARY:Jerrad Fletcher
DESCRIPTION:<p>When deputies arrived they found Jerrad Fletcher lying face down in the living room with an apparent gunshot wound. Fletcher died at the scene.</p><p>San Diego County Crime Stoppers and the San Diego County Sheriff’s Department’s Homicide Unit continue to look for leads to help identify and locate the person(s) responsible for the murder of Jerrad Fletcher.</p><p>Anyone with information is asked to contact us in one of the following ways:</p><ul>    <li>Sheriff’s Homicide Detail - 858-285-6330 (during business hours)</li>    <li>Sheriff’s Communications Center - 858-565-5200 (outside business hours)</li>    <li>Crime Stoppers - 888-580-8477</li>    <li><a href="mailto:&#115;&#100;&#115;&#111;&#46;&#104;&#111;&#109;&#105;&#99;&#105;&#100;&#101;&#64;&#115;&#100;&#115;&#104;&#101;&#114;&#105;&#102;&#102;&#46;&#111;&#114;&#103;">E-mail Homicide Detail</a></li>    <li><a href="https://www.tipsubmit.com/WebTips.aspx?AgencyID=409" target="_blank">Online Tip Form (Crime Stoppers)</a></li></ul>
X-ALT-DESC;FMTTYPE=text/html:<p>When deputies arrived they found Jerrad Fletcher lying face down in the living room with an apparent gunshot wound. Fletcher died at the scene.</p><p>San Diego County Crime Stoppers and the San Diego County Sheriff’s Department’s Homicide Unit continue to look for leads to help identify and locate the person(s) responsible for the murder of Jerrad Fletcher.</p><p>Anyone with information is asked to contact us in one of the following ways:</p><ul>    <li>Sheriff’s Homicide Detail - 858-285-6330 (during business hours)</li>    <li>Sheriff’s Communications Center - 858-565-5200 (outside business hours)</li>    <li>Crime Stoppers - 888-580-8477</li>    <li><a href="mailto:&#115;&#100;&#115;&#111;&#46;&#104;&#111;&#109;&#105;&#99;&#105;&#100;&#101;&#64;&#115;&#100;&#115;&#104;&#101;&#114;&#105;&#102;&#102;&#46;&#111;&#114;&#103;">E-mail Homicide Detail</a></li>    <li><a href="https://www.tipsubmit.com/WebTips.aspx?AgencyID=409" target="_blank">Online Tip Form (Crime Stoppers)</a></li></ul>
LOCATION:1889 Hillsdale Dr El Cajon\, California 
CLASS:PUBLIC
END:VEVENT
END:VCALENDAR
