BEGIN:VCALENDAR
VERSION:2.0
PRODID:San Diego County Sheriff Calendar Creator
METHOD:PUBLISH
BEGIN:VEVENT
DTSTAMP:20210124T214005
DTSTART:19771223T000000
DTEND:19771223T235900
SUMMARY:Elizabeth Heidt
DESCRIPTION:<p>On December 23, 1977, the body of Elizabeth Heidt was discovered in a drainage culvert near a turn out on Highway 94 one mile east of Steele Canyon Road, in Jamul. The detectives who conducted the preliminary investigation determined Heidt was murdered.</p><p>Although an extensive investigation was conducted, investigators never developed enough evidence to make an arrest. As the case remains unsolved, Cold Case detectives continue to investigate the circumstances surrounding the death of Elizabeth Heidt. However, detectives still need the public’s help to identify the suspect or suspects.</p><p>Anyone with information is asked to contact us in one of the following ways:</p><ul>    <li>Sheriff’s Homicide Detail - 858-285-6330 (during business hours)</li>    <li>Sheriff’s Communications Center - 858-565-5200 (outside business hours)</li>    <li>Crime Stoppers - 888-580-8477</li>    <li><a href="mailto:&#115;&#100;&#115;&#111;&#46;&#104;&#111;&#109;&#105;&#99;&#105;&#100;&#101;&#64;&#115;&#100;&#115;&#104;&#101;&#114;&#105;&#102;&#102;&#46;&#111;&#114;&#103;">E-mail Homicide Detail</a></li>    <li><a href="https://www.tipsubmit.com/WebTips.aspx?AgencyID=409" target="_blank">Online Tip Form (Crime Stoppers)</a></li></ul>
X-ALT-DESC;FMTTYPE=text/html:<p>On December 23, 1977, the body of Elizabeth Heidt was discovered in a drainage culvert near a turn out on Highway 94 one mile east of Steele Canyon Road, in Jamul. The detectives who conducted the preliminary investigation determined Heidt was murdered.</p><p>Although an extensive investigation was conducted, investigators never developed enough evidence to make an arrest. As the case remains unsolved, Cold Case detectives continue to investigate the circumstances surrounding the death of Elizabeth Heidt. However, detectives still need the public’s help to identify the suspect or suspects.</p><p>Anyone with information is asked to contact us in one of the following ways:</p><ul>    <li>Sheriff’s Homicide Detail - 858-285-6330 (during business hours)</li>    <li>Sheriff’s Communications Center - 858-565-5200 (outside business hours)</li>    <li>Crime Stoppers - 888-580-8477</li>    <li><a href="mailto:&#115;&#100;&#115;&#111;&#46;&#104;&#111;&#109;&#105;&#99;&#105;&#100;&#101;&#64;&#115;&#100;&#115;&#104;&#101;&#114;&#105;&#102;&#102;&#46;&#111;&#114;&#103;">E-mail Homicide Detail</a></li>    <li><a href="https://www.tipsubmit.com/WebTips.aspx?AgencyID=409" target="_blank">Online Tip Form (Crime Stoppers)</a></li></ul>
LOCATION:Hwy 94 East of Steele Canyon\, Jamul\, California 
CLASS:PUBLIC
END:VEVENT
END:VCALENDAR
