BEGIN:VCALENDAR
VERSION:2.0
PRODID:San Diego County Sheriff Calendar Creator
METHOD:PUBLISH
BEGIN:VEVENT
DTSTAMP:20210124T215149
DTSTART:19670501T000000
DTEND:19670501T235900
SUMMARY:Nikki Benedict
DESCRIPTION:<p>During the early evening hours of May 1, 1967, Nikki Benedict was walking home from a friend’s house when she was critically stabbed and left to die on a nearby dirt trail in the 12700 block of Poway Road, Poway. At about 6:30 p.m., an 11-year-old boy was walking to his home when he discovered Nikki Benedict lying on the roadway critically injured. The boy immediately reported what he discovered to his father who owned a market nearby. Uniform deputies, Poway Valley Fire Department and ambulance personnel responded to the scene. Emergency personnel rendered medical aid and she was transported to Palomar Hospital where she was pronounced deceased upon arrival.</p><p>Although an extensive investigation was conducted, investigators never determined a motive and no viable suspects were identified during the original investigation. As the case remains unsolved, Cold Case detectives continue to investigate the circumstances surrounding the murder of Nikki Benedict. However, detectives still need the public’s help to identify the suspect.</p><p>Anyone with information is asked to contact us in one of the following ways:</p><ul>    <li>Sheriff’s Homicide Detail - 858-285-6330 (during business hours)</li>    <li>Sheriff’s Communications Center - 858-565-5200 (outside business hours)</li>    <li>Crime Stoppers - 888-580-8477</li>    <li><a href="mailto:&#115;&#100;&#115;&#111;&#46;&#104;&#111;&#109;&#105;&#99;&#105;&#100;&#101;&#64;&#115;&#100;&#115;&#104;&#101;&#114;&#105;&#102;&#102;&#46;&#111;&#114;&#103;">E-mail Homicide Detail</a></li>    <li><a href="https://www.tipsubmit.com/WebTips.aspx?AgencyID=409" target="_blank">Online Tip Form (Crime Stoppers)</a></li></ul>
X-ALT-DESC;FMTTYPE=text/html:<p>During the early evening hours of May 1, 1967, Nikki Benedict was walking home from a friend’s house when she was critically stabbed and left to die on a nearby dirt trail in the 12700 block of Poway Road, Poway. At about 6:30 p.m., an 11-year-old boy was walking to his home when he discovered Nikki Benedict lying on the roadway critically injured. The boy immediately reported what he discovered to his father who owned a market nearby. Uniform deputies, Poway Valley Fire Department and ambulance personnel responded to the scene. Emergency personnel rendered medical aid and she was transported to Palomar Hospital where she was pronounced deceased upon arrival.</p><p>Although an extensive investigation was conducted, investigators never determined a motive and no viable suspects were identified during the original investigation. As the case remains unsolved, Cold Case detectives continue to investigate the circumstances surrounding the murder of Nikki Benedict. However, detectives still need the public’s help to identify the suspect.</p><p>Anyone with information is asked to contact us in one of the following ways:</p><ul>    <li>Sheriff’s Homicide Detail - 858-285-6330 (during business hours)</li>    <li>Sheriff’s Communications Center - 858-565-5200 (outside business hours)</li>    <li>Crime Stoppers - 888-580-8477</li>    <li><a href="mailto:&#115;&#100;&#115;&#111;&#46;&#104;&#111;&#109;&#105;&#99;&#105;&#100;&#101;&#64;&#115;&#100;&#115;&#104;&#101;&#114;&#105;&#102;&#102;&#46;&#111;&#114;&#103;">E-mail Homicide Detail</a></li>    <li><a href="https://www.tipsubmit.com/WebTips.aspx?AgencyID=409" target="_blank">Online Tip Form (Crime Stoppers)</a></li></ul>
LOCATION:12700 Poway Rd Poway\, California 
CLASS:PUBLIC
END:VEVENT
END:VCALENDAR
