BEGIN:VCALENDAR
VERSION:2.0
PRODID:San Diego County Sheriff Calendar Creator
METHOD:PUBLISH
BEGIN:VEVENT
DTSTAMP:20210124T214829
DTSTART:19740928T000000
DTEND:19740928T235900
SUMMARY:Patricia Lee Kuzara
DESCRIPTION:<p>On Saturday, September 28, 1974, around 6:30 p.m., seven-year-old Patricia Lee Kuzara left her baby sitter’s home carrying her little red and black blanket and started walking home. It was 2½ miles to her home on Putney Road but Patricia never arrived. Patricia’s mother, Nancy Kuzara, became concerned when Patricia did not arrive at the house and immediately called the Sheriff’s Department to report her daughter missing. The Sheriff’s Search and Rescue team were immediately activated and personnel scoured the area for Patricia.</p><p>On the morning of Sunday, September 29, 1974, three young boys discovered the body of Patricia Kuzara, as they were on their way to church. The child’s body was found in a field adjacent to the First Baptist Church on Midland Road, which was about five blocks from her house. Patricia’s death was attributed to blunt force trauma and the apparent motive for the crime was of sexual nature. Although an extensive investigation was conducted, no viable suspects were identified during the original investigation and the case remains unsolved.</p><p>Cold Case detectives are investigating the circumstances surrounding the murder of Patricia Kuzara, but detectives’ still need the public's help to identify the suspect.</p><p>Anyone with information is asked to contact us in one of the following ways:</p><ul>    <li>Sheriff’s Homicide Detail - 858-285-6330 (during business hours)</li>    <li>Sheriff’s Communications Center - 858-565-5200 (outside business hours)</li>    <li>Crime Stoppers - 888-580-8477</li>    <li><a href="mailto:&#115;&#100;&#115;&#111;&#46;&#104;&#111;&#109;&#105;&#99;&#105;&#100;&#101;&#64;&#115;&#100;&#115;&#104;&#101;&#114;&#105;&#102;&#102;&#46;&#111;&#114;&#103;">E-mail Homicide Detail</a></li>    <li><a href="https://www.tipsubmit.com/WebTips.aspx?AgencyID=409" target="_blank">Online Tip Form (Crime Stoppers)</a></li></ul>
X-ALT-DESC;FMTTYPE=text/html:<p>On Saturday, September 28, 1974, around 6:30 p.m., seven-year-old Patricia Lee Kuzara left her baby sitter’s home carrying her little red and black blanket and started walking home. It was 2½ miles to her home on Putney Road but Patricia never arrived. Patricia’s mother, Nancy Kuzara, became concerned when Patricia did not arrive at the house and immediately called the Sheriff’s Department to report her daughter missing. The Sheriff’s Search and Rescue team were immediately activated and personnel scoured the area for Patricia.</p><p>On the morning of Sunday, September 29, 1974, three young boys discovered the body of Patricia Kuzara, as they were on their way to church. The child’s body was found in a field adjacent to the First Baptist Church on Midland Road, which was about five blocks from her house. Patricia’s death was attributed to blunt force trauma and the apparent motive for the crime was of sexual nature. Although an extensive investigation was conducted, no viable suspects were identified during the original investigation and the case remains unsolved.</p><p>Cold Case detectives are investigating the circumstances surrounding the murder of Patricia Kuzara, but detectives’ still need the public's help to identify the suspect.</p><p>Anyone with information is asked to contact us in one of the following ways:</p><ul>    <li>Sheriff’s Homicide Detail - 858-285-6330 (during business hours)</li>    <li>Sheriff’s Communications Center - 858-565-5200 (outside business hours)</li>    <li>Crime Stoppers - 888-580-8477</li>    <li><a href="mailto:&#115;&#100;&#115;&#111;&#46;&#104;&#111;&#109;&#105;&#99;&#105;&#100;&#101;&#64;&#115;&#100;&#115;&#104;&#101;&#114;&#105;&#102;&#102;&#46;&#111;&#114;&#103;">E-mail Homicide Detail</a></li>    <li><a href="https://www.tipsubmit.com/WebTips.aspx?AgencyID=409" target="_blank">Online Tip Form (Crime Stoppers)</a></li></ul>
LOCATION:Midland Rd & Hilleary Rd Poway\, California 
CLASS:PUBLIC
END:VEVENT
END:VCALENDAR
