BEGIN:VCALENDAR
VERSION:2.0
PRODID:San Diego County Sheriff Calendar Creator
METHOD:PUBLISH
BEGIN:VEVENT
DTSTAMP:20210315T164149
DTSTART:20210316T110000
DTEND:20210316T150000
SUMMARY:Recruit Military Virtual Career Fair
DESCRIPTION:<p>The San Diego County Sheriff's Department is participating&nbsp; in a virtual career fair hosted by RecruitMilitary.</p><p>Western Region Virtual Career Fair<br>Tuesday, March 16<br>11:00 a.m. to 3:00 p.m.&nbsp;</p><p>Register for this event <a href="https://recruitmilitary.careereco.com/Fair/FairOrganizations?fairId=d2716bf1-5c0d-4961-b318-ac72015141a9" target="_blank">here</a>.</p><p>We are hiring full-time positions for deputies, nurses, dispatchers and mental health clinicians. Visit www.joinsdsheriff.net to learn more.&nbsp;</p>
X-ALT-DESC;FMTTYPE=text/html:<p>The San Diego County Sheriff's Department is participating&nbsp; in a virtual career fair hosted by RecruitMilitary.</p><p>Western Region Virtual Career Fair<br>Tuesday, March 16<br>11:00 a.m. to 3:00 p.m.&nbsp;</p><p>Register for this event <a href="https://recruitmilitary.careereco.com/Fair/FairOrganizations?fairId=d2716bf1-5c0d-4961-b318-ac72015141a9" target="_blank">here</a>.</p><p>We are hiring full-time positions for deputies, nurses, dispatchers and mental health clinicians. Visit www.joinsdsheriff.net to learn more.&nbsp;</p>
LOCATION:
CLASS:PUBLIC
END:VEVENT
END:VCALENDAR
