BEGIN:VCALENDAR
VERSION:2.0
PRODID:San Diego County Sheriff Calendar Creator
METHOD:PUBLISH
BEGIN:VEVENT
DTSTAMP:20210406T111758
DTSTART:20210424T100000
DTEND:20210424T140000
SUMMARY:Drug Take Back Day
DESCRIPTION:<h3>The National Prescription Drug Take Back Day addresses a crucial public safety and public health issue. According to the 2019 National Survey on Drug Use and Health,&nbsp;9.7 million people misused prescription pain relievers, 4.9 million people misused prescription stimulants, and 5.9 million people misused prescription tranquilizers or sedatives in 2019. The survey also showed that a majority of misused prescription drugs were obtained from family and friends, often from the home medicine cabinet.</h3><h3>Access the event flyer in English and Spanish at the following <a href="https://www.sdsheriff.gov/home/showpublisheddocument/1798/637533042652170000" target="_blank">link</a>.</h3><p>The San Diego County Sheriff's Department will be participating in Drug Take Back Day at four official sites:</p><ul>    <li><strong>Imperial Beach Sheriff’s Station</strong> 845 Imperial Beach Blvd., Imperial Beach</li>    <li><strong>Poway Sheriff's Station</strong> 13100 Bowron Road, Poway</li>    <li><strong>San Marcos Sheriff’s Station</strong> 182 Santar Place, San Marcos</li>    <li><strong>North County Regional Center Courthouse</strong> 325 S. Melrose Drive, Vista</li></ul><p>&nbsp;</p><p>As a reminder, community members are always welcome to bring unwanted, unused or expired medication to a Sheriff's Department facility disposal kiosk and drop it in—just like putting a letter in a mailbox.&nbsp; These collection boxes are accessible Monday through Friday during business hours.&nbsp;</p><p>It's free, convenient and anonymous. Visit the following <a href="https://www.sdsheriff.gov/community/prescription-drug-drop-off" target="_blank">website</a> for more information.&nbsp;</p>
X-ALT-DESC;FMTTYPE=text/html:<h3>The National Prescription Drug Take Back Day addresses a crucial public safety and public health issue. According to the 2019 National Survey on Drug Use and Health,&nbsp;9.7 million people misused prescription pain relievers, 4.9 million people misused prescription stimulants, and 5.9 million people misused prescription tranquilizers or sedatives in 2019. The survey also showed that a majority of misused prescription drugs were obtained from family and friends, often from the home medicine cabinet.</h3><h3>Access the event flyer in English and Spanish at the following <a href="https://www.sdsheriff.gov/home/showpublisheddocument/1798/637533042652170000" target="_blank">link</a>.</h3><p>The San Diego County Sheriff's Department will be participating in Drug Take Back Day at four official sites:</p><ul>    <li><strong>Imperial Beach Sheriff’s Station</strong> 845 Imperial Beach Blvd., Imperial Beach</li>    <li><strong>Poway Sheriff's Station</strong> 13100 Bowron Road, Poway</li>    <li><strong>San Marcos Sheriff’s Station</strong> 182 Santar Place, San Marcos</li>    <li><strong>North County Regional Center Courthouse</strong> 325 S. Melrose Drive, Vista</li></ul><p>&nbsp;</p><p>As a reminder, community members are always welcome to bring unwanted, unused or expired medication to a Sheriff's Department facility disposal kiosk and drop it in—just like putting a letter in a mailbox.&nbsp; These collection boxes are accessible Monday through Friday during business hours.&nbsp;</p><p>It's free, convenient and anonymous. Visit the following <a href="https://www.sdsheriff.gov/community/prescription-drug-drop-off" target="_blank">website</a> for more information.&nbsp;</p>
LOCATION:
CLASS:PUBLIC
END:VEVENT
END:VCALENDAR
