BEGIN:VCALENDAR
VERSION:2.0
PRODID:San Diego County Sheriff Calendar Creator
METHOD:PUBLISH
BEGIN:VEVENT
DTSTAMP:20210726T113533
DTSTART:20210904T090000
DTEND:20210904T171500
SUMMARY:2021 Padres First Responders Job Fair
DESCRIPTION:<p><strong>Location:</strong> Gallagher Square at Petco Park</p><p>Check back for more details</p>
X-ALT-DESC;FMTTYPE=text/html:<p><strong>Location:</strong> Gallagher Square at Petco Park</p><p>Check back for more details</p>
LOCATION:
CLASS:PUBLIC
END:VEVENT
END:VCALENDAR
