BEGIN:VCALENDAR
VERSION:2.0
PRODID:San Diego County Sheriff Calendar Creator
METHOD:PUBLISH
BEGIN:VEVENT
DTSTAMP:20210124T211008
DTSTART:20050319T000000
DTEND:20050319T235900
SUMMARY:William Napoleon Gibbs
DESCRIPTION:<br><p>On March 19, 2005, deputies from the Lemon Grove Sheriff Station responded to the 8000 block of Lemon Grove Way regarding an assault with a deadly weapon. When deputies arrived they found the victim, William Gibbs, lying in the driveway of a residence. Witnesses stated they saw William and two other males talking in front of an apartment complex when two black males approached William and his friends. Both males produced a gun and as William was attempting to get away one of the suspects shot William. The suspects then fled the area on foot. Cause of death was due to a gunshot wound.</p><p>At the time of the crime the suspects were described as:</p><ul>    <li>Suspect #1: Black male adult, 18 years old, short “afro,” goatee, 6’0”, 185lbs, red hooded sweatshirt, blue jeans</li>    <li>Suspect #2: Black male adult, 18 years old, short “afro,” clean shaven, 5’10”, 160lbs, gray hooded sweatshirt, blue jeans.</li></ul><p>Anyone with information is asked to contact us in one of the following ways:</p><ul>    <li>Sheriff’s Homicide Detail - 858-285-6330 (during business hours)</li>    <li>Sheriff’s Communications Center - 858-565-5200 (outside business hours)</li>    <li>Crime Stoppers - 888-580-8477</li>    <li><a href="mailto:&#115;&#100;&#115;&#111;&#46;&#104;&#111;&#109;&#105;&#99;&#105;&#100;&#101;&#64;&#115;&#100;&#115;&#104;&#101;&#114;&#105;&#102;&#102;&#46;&#111;&#114;&#103;">E-mail Homicide Detail</a></li>    <li><a href="https://www.tipsubmit.com/WebTips.aspx?AgencyID=409" target="_blank">Online Tip Form (Crime Stoppers)</a></li></ul>
X-ALT-DESC;FMTTYPE=text/html:<br><p>On March 19, 2005, deputies from the Lemon Grove Sheriff Station responded to the 8000 block of Lemon Grove Way regarding an assault with a deadly weapon. When deputies arrived they found the victim, William Gibbs, lying in the driveway of a residence. Witnesses stated they saw William and two other males talking in front of an apartment complex when two black males approached William and his friends. Both males produced a gun and as William was attempting to get away one of the suspects shot William. The suspects then fled the area on foot. Cause of death was due to a gunshot wound.</p><p>At the time of the crime the suspects were described as:</p><ul>    <li>Suspect #1: Black male adult, 18 years old, short “afro,” goatee, 6’0”, 185lbs, red hooded sweatshirt, blue jeans</li>    <li>Suspect #2: Black male adult, 18 years old, short “afro,” clean shaven, 5’10”, 160lbs, gray hooded sweatshirt, blue jeans.</li></ul><p>Anyone with information is asked to contact us in one of the following ways:</p><ul>    <li>Sheriff’s Homicide Detail - 858-285-6330 (during business hours)</li>    <li>Sheriff’s Communications Center - 858-565-5200 (outside business hours)</li>    <li>Crime Stoppers - 888-580-8477</li>    <li><a href="mailto:&#115;&#100;&#115;&#111;&#46;&#104;&#111;&#109;&#105;&#99;&#105;&#100;&#101;&#64;&#115;&#100;&#115;&#104;&#101;&#114;&#105;&#102;&#102;&#46;&#111;&#114;&#103;">E-mail Homicide Detail</a></li>    <li><a href="https://www.tipsubmit.com/WebTips.aspx?AgencyID=409" target="_blank">Online Tip Form (Crime Stoppers)</a></li></ul>
LOCATION:8000 Block\, Lemon Grove\, California 
CLASS:PUBLIC
END:VEVENT
END:VCALENDAR
